BEGIN:VCALENDAR
VERSION:2.0
PRODID:spatie/icalendar-generator
DESCRIPTION:Evenementen van DELS Ondernemersvereniging
X-WR-CALDESC:Evenementen van DELS Ondernemersvereniging
REFRESH-INTERVAL;VALUE=DURATION:PT1440M
X-PUBLISHED-TTL:PT1440M
BEGIN:VTIMEZONE
TZID:Europe/Amsterdam
BEGIN:DAYLIGHT
DTSTART:20240331T020000Z
TZOFFSETFROM:+0100
TZOFFSETTO:+0200
END:DAYLIGHT
BEGIN:STANDARD
DTSTART:20241027T030000Z
TZOFFSETFROM:+0200
TZOFFSETTO:+0100
END:STANDARD
BEGIN:DAYLIGHT
DTSTART:20250330T020000Z
TZOFFSETFROM:+0100
TZOFFSETTO:+0200
END:DAYLIGHT
END:VTIMEZONE
BEGIN:VTIMEZONE
TZID:UTC
BEGIN:STANDARD
DTSTART:20250724T085433Z
TZOFFSETFROM:+0000
TZOFFSETTO:+0000
END:STANDARD
END:VTIMEZONE
BEGIN:VEVENT
UID:8-8
DTSTAMP:20260420T085433Z
SUMMARY:Speelmiddag voor (klein)kinderen van DELS leden
LOCATION:Dierense Speeltuin Rode Kruislaan 1  Dieren  6951 BL
ORGANIZER;CN=admin:MAILTO:webmaster@creaza.nl
DTSTART;TZID=Europe/Amsterdam:20241019T130000
DTEND;TZID=Europe/Amsterdam:20241019T163000
X-ALT-DESC;FMTTYPE=TEXT/HTML:Op 19 oktober is er in de Dierense Speeltuin e
 en speelmiddag voor (klein)kinderen van DELS leden.
CATEGORIES:General
URL;VALUE=URI:https://dels.nl/mc-events/speelmiddag-voor-kleinkinderen-van-
 dels-leden/
METHOD:PUBLISH
END:VEVENT
END:VCALENDAR