BEGIN:VCALENDAR
VERSION:2.0
PRODID:spatie/icalendar-generator
DESCRIPTION:Evenementen van DELS Ondernemersvereniging
X-WR-CALDESC:Evenementen van DELS Ondernemersvereniging
REFRESH-INTERVAL;VALUE=DURATION:PT1440M
X-PUBLISHED-TTL:PT1440M
BEGIN:VTIMEZONE
TZID:Europe/Amsterdam
BEGIN:STANDARD
DTSTART:20241027T030000Z
TZOFFSETFROM:+0200
TZOFFSETTO:+0100
END:STANDARD
BEGIN:DAYLIGHT
DTSTART:20250330T020000Z
TZOFFSETFROM:+0100
TZOFFSETTO:+0200
END:DAYLIGHT
END:VTIMEZONE
BEGIN:VTIMEZONE
TZID:UTC
BEGIN:STANDARD
DTSTART:20250724T085651Z
TZOFFSETFROM:+0000
TZOFFSETTO:+0000
END:STANDARD
END:VTIMEZONE
BEGIN:VEVENT
UID:21-21
DTSTAMP:20260420T085651Z
SUMMARY:Overleg gemeente
LOCATION:
ORGANIZER;CN=admin:MAILTO:webmaster@creaza.nl
DTSTART;TZID=Europe/Amsterdam:20250410T090000
DTEND;TZID=Europe/Amsterdam:20250410T100000
X-ALT-DESC;FMTTYPE=TEXT/HTML:
CATEGORIES:General
URL;VALUE=URI:https://dels.nl/mc-events/overleg-gemeente-2/
METHOD:PUBLISH
END:VEVENT
END:VCALENDAR