BEGIN:VCALENDAR
VERSION:2.0
PRODID:spatie/icalendar-generator
DESCRIPTION:Evenementen van DELS Ondernemersvereniging
X-WR-CALDESC:Evenementen van DELS Ondernemersvereniging
REFRESH-INTERVAL;VALUE=DURATION:PT1440M
X-PUBLISHED-TTL:PT1440M
BEGIN:VTIMEZONE
TZID:Europe/Amsterdam
BEGIN:STANDARD
DTSTART:20251026T030000Z
TZOFFSETFROM:+0200
TZOFFSETTO:+0100
END:STANDARD
BEGIN:DAYLIGHT
DTSTART:20260329T020000Z
TZOFFSETFROM:+0100
TZOFFSETTO:+0200
END:DAYLIGHT
BEGIN:STANDARD
DTSTART:20261025T030000Z
TZOFFSETFROM:+0200
TZOFFSETTO:+0100
END:STANDARD
END:VTIMEZONE
BEGIN:VTIMEZONE
TZID:UTC
BEGIN:STANDARD
DTSTART:20250724T120414Z
TZOFFSETFROM:+0000
TZOFFSETTO:+0000
END:STANDARD
END:VTIMEZONE
BEGIN:VEVENT
UID:49-47
DTSTAMP:20260420T120414Z
SUMMARY:Bestuursvergadering
LOCATION:De Oranjerie Hogestraat 9a  Dieren  6953 AN
ORGANIZER;CN=admin:MAILTO:webmaster@creaza.nl
DTSTART;TZID=Europe/Amsterdam:20260625T153000
DTEND;TZID=Europe/Amsterdam:20260625T163000
X-ALT-DESC;FMTTYPE=TEXT/HTML:Locatie: De Oranjerie Dieren
CATEGORIES:General
URL;VALUE=URI:https://dels.nl/mc-events/bestuursvergadering-4/
METHOD:PUBLISH
END:VEVENT
END:VCALENDAR