BEGIN:VCALENDAR
VERSION:2.0
PRODID:spatie/icalendar-generator
DESCRIPTION:Evenementen van DELS Ondernemersvereniging
X-WR-CALDESC:Evenementen van DELS Ondernemersvereniging
REFRESH-INTERVAL;VALUE=DURATION:PT1440M
X-PUBLISHED-TTL:PT1440M
BEGIN:VTIMEZONE
TZID:Europe/Amsterdam
BEGIN:DAYLIGHT
DTSTART:20240331T020000Z
TZOFFSETFROM:+0100
TZOFFSETTO:+0200
END:DAYLIGHT
BEGIN:STANDARD
DTSTART:20241027T030000Z
TZOFFSETFROM:+0200
TZOFFSETTO:+0100
END:STANDARD
BEGIN:DAYLIGHT
DTSTART:20250330T020000Z
TZOFFSETFROM:+0100
TZOFFSETTO:+0200
END:DAYLIGHT
END:VTIMEZONE
BEGIN:VTIMEZONE
TZID:UTC
BEGIN:STANDARD
DTSTART:20250725T101421Z
TZOFFSETFROM:+0000
TZOFFSETTO:+0000
END:STANDARD
END:VTIMEZONE
BEGIN:VEVENT
UID:10-10
DTSTAMP:20260421T101421Z
SUMMARY:Running wilddinner
LOCATION:Restaurant De Peerdestal Zutphensestraatweg 50  Ellecom  6955 AK
ORGANIZER;CN=admin:MAILTO:webmaster@creaza.nl
DTSTART;TZID=Europe/Amsterdam:20241125T180000
DTEND;TZID=Europe/Amsterdam:20241125T233000
X-ALT-DESC;FMTTYPE=TEXT/HTML:Op maandagavond 25 november\, vanaf 18:00 uur\
 , worden DELS-leden verwelkomd voor de jaarlijkse wildavond in Restaurant 
 De Peerdestal in Ellecom. Aanmelden voor maandag 18 november via info@dels
 .nl of telefonisch via 06 82 62 78 84. Het moment waar we elk jaar reikhal
 zend naar uitkijken is aangebroken: het DELS Wilddiner! Dit jaar belooft d
 e avond nóg&amp;hellip\;
CATEGORIES:General
URL;VALUE=URI:https://dels.nl/mc-events/running-wilddinner/
METHOD:PUBLISH
END:VEVENT
END:VCALENDAR